BEGIN:VCALENDAR
VERSION:2.0
PRODID:-//SchoolBundle//NONSGML Calendar 1.0//EN
BEGIN:VTIMEZONE
TZID:America/Winnipeg
X-LIC-LOCATION:America/Winnipeg
BEGIN:DAYLIGHT
TZOFFSETFROM:-0600
TZOFFSETTO:-0500
TZNAME:CDT
DTSTART:19700308T020000
RRULE:FREQ=YEARLY;BYMONTH=3;BYDAY=2SU
END:DAYLIGHT
BEGIN:STANDARD
TZOFFSETFROM:-0500
TZOFFSETTO:-0600
TZNAME:CST
DTSTART:19701101T020000
RRULE:FREQ=YEARLY;BYMONTH=11;BYDAY=1SU
END:STANDARD
END:VTIMEZONE
BEGIN:VEVENT
SUMMARY:N-K Spring Concert: Our Wonderful World
LOCATION:340 Cockburn St N, Winnipeg, MB R3M 2P5, Canada
DESCRIPTION:Earl Grey School&#39\;s Spring Concert - &quot\;Our Wonderful 
 World&quot\; featuring the students in Nursery &amp\; Kindergarten!
X-ALT-DESC;FMTTYPE=text/html:<p>Earl Grey School's Spring Concert - <
 em id="isPasted">"Our Wonderful World" </em>featuring the students
  in Nursery & Kindergarten!</p>
DTSTAMP:20260423T060302Z
UID:36914@Wsd.sbc
SEQUENCE:2
URL;VALUE=URI:https://www.winnipegsd.ca/_ci/calendar/event/36914
DTSTART;TZID=America/Winnipeg:20260423T173000
DTEND;TZID=America/Winnipeg:20260423T180000
END:VEVENT
END:VCALENDAR
