BEGIN:VCALENDAR
VERSION:2.0
PRODID:-//SchoolBundle//NONSGML Calendar 1.0//EN
BEGIN:VTIMEZONE
TZID:America/Winnipeg
X-LIC-LOCATION:America/Winnipeg
BEGIN:DAYLIGHT
TZOFFSETFROM:-0600
TZOFFSETTO:-0500
TZNAME:CDT
DTSTART:19700308T020000
RRULE:FREQ=YEARLY;BYMONTH=3;BYDAY=2SU
END:DAYLIGHT
BEGIN:STANDARD
TZOFFSETFROM:-0500
TZOFFSETTO:-0600
TZNAME:CST
DTSTART:19701101T020000
RRULE:FREQ=YEARLY;BYMONTH=11;BYDAY=1SU
END:STANDARD
END:VTIMEZONE
BEGIN:VEVENT
SUMMARY:Something Rotten! from Grant Park Performing Arts
LOCATION:340 Provencher Blvd, Winnipeg, MB R2H 0G7, Canada
DESCRIPTION:
DTSTAMP:20260421T104339Z
UID:36898@Wsd.sbc
SEQUENCE:1
URL;VALUE=URI:https://www.winnipegsd.ca/_ci/calendar/event/36898
DTSTART;TZID=America/Winnipeg:20260421T190000
DTEND;TZID=America/Winnipeg:20260424T190000
END:VEVENT
END:VCALENDAR
