BEGIN:VCALENDAR
VERSION:2.0
PRODID:-//SchoolBundle//NONSGML Calendar 1.0//EN
BEGIN:VTIMEZONE
TZID:America/Winnipeg
X-LIC-LOCATION:America/Winnipeg
BEGIN:DAYLIGHT
TZOFFSETFROM:-0600
TZOFFSETTO:-0500
TZNAME:CDT
DTSTART:19700308T020000
RRULE:FREQ=YEARLY;BYMONTH=3;BYDAY=2SU
END:DAYLIGHT
BEGIN:STANDARD
TZOFFSETFROM:-0500
TZOFFSETTO:-0600
TZNAME:CST
DTSTART:19701101T020000
RRULE:FREQ=YEARLY;BYMONTH=11;BYDAY=1SU
END:STANDARD
END:VTIMEZONE
BEGIN:VEVENT
SUMMARY:SR Term 3 Report Cards Issued
DESCRIPTION:Gr. 9 - 12 Report cards issued electronically.
X-ALT-DESC;FMTTYPE=text/html:<p><span style="color: rgb(0, 0, 0); fon
 t-family: Arial, Helvetica, sans-serif; font-size: 18px; font-styl
 e: normal; font-variant-ligatures: normal; font-variant-caps: norm
 al; font-weight: 400; letter-spacing: normal; orphans: 2; text-ali
 gn: left; text-indent: 0px; text-transform: none; widows: 2; word-
 spacing: 0px; -webkit-text-stroke-width: 0px; white-space: normal;
  background-color: rgb(238, 238, 238); text-decoration-thickness: 
 initial; text-decoration-style: initial; text-decoration-color: in
 itial; display: inline !important; float: none;" id="isPasted">Gr.
  9 - 12 Report cards issued electronically.</span></p>
DTSTAMP:20260422T084208Z
UID:35541@Wsd.sbc
SEQUENCE:1
URL;VALUE=URI:https://www.winnipegsd.ca/_ci/calendar/event/35541
DTSTART;TZID=America/Winnipeg:20260424T153000
DTEND;TZID=America/Winnipeg:20260424T154500
END:VEVENT
END:VCALENDAR
