BEGIN:VCALENDAR
VERSION:2.0
PRODID:-//SchoolBundle//NONSGML Calendar 1.0//EN
BEGIN:VTIMEZONE
TZID:America/Winnipeg
X-LIC-LOCATION:America/Winnipeg
BEGIN:DAYLIGHT
TZOFFSETFROM:-0600
TZOFFSETTO:-0500
TZNAME:CDT
DTSTART:19700308T020000
RRULE:FREQ=YEARLY;BYMONTH=3;BYDAY=2SU
END:DAYLIGHT
BEGIN:STANDARD
TZOFFSETFROM:-0500
TZOFFSETTO:-0600
TZNAME:CST
DTSTART:19701101T020000
RRULE:FREQ=YEARLY;BYMONTH=11;BYDAY=1SU
END:STANDARD
END:VTIMEZONE
BEGIN:VEVENT
SUMMARY:MYRCA Book Club - Grosvenor Gr. 5/6
DESCRIPTION:
DTSTAMP:20260423T164655Z
UID:35208@Wsd.sbc
SEQUENCE:2
URL;VALUE=URI:https://www.winnipegsd.ca/_ci/calendar/event/35208
DTSTART;TZID=America/Winnipeg:20260212T120000
DTEND;TZID=America/Winnipeg:20260212T130000
RRULE:FREQ=WEEKLY;INTERVAL=2;COUNT=6;BYDAY=TH
END:VEVENT
END:VCALENDAR
