BEGIN:VCALENDAR
VERSION:2.0
PRODID:-//SchoolBundle//NONSGML Calendar 1.0//EN
BEGIN:VTIMEZONE
TZID:America/Winnipeg
X-LIC-LOCATION:America/Winnipeg
BEGIN:DAYLIGHT
TZOFFSETFROM:-0600
TZOFFSETTO:-0500
TZNAME:CDT
DTSTART:19700308T020000
RRULE:FREQ=YEARLY;BYMONTH=3;BYDAY=2SU
END:DAYLIGHT
BEGIN:STANDARD
TZOFFSETFROM:-0500
TZOFFSETTO:-0600
TZNAME:CST
DTSTART:19701101T020000
RRULE:FREQ=YEARLY;BYMONTH=11;BYDAY=1SU
END:STANDARD
END:VTIMEZONE
BEGIN:VEVENT
SUMMARY:AP Exams May 4 - 6, 2026
DESCRIPTION:AP Exams: Biology May 4 (am)\, Chemistry May 5 (am)\, Physics 
 1 May 6 (pm)
X-ALT-DESC;FMTTYPE=text/html:<p>AP Exams: Biology May 4 (am), Chemist
 ry May 5 (am), Physics 1 May 6 (pm)</p>
DTSTAMP:20260424T080241Z
UID:34679@Wsd.sbc
SEQUENCE:1
URL;VALUE=URI:https://www.winnipegsd.ca/_ci/calendar/event/34679
DTSTART;TZID=America/Winnipeg:20260504T090000
DTEND;TZID=America/Winnipeg:20260506T153000
END:VEVENT
END:VCALENDAR
