BEGIN:VCALENDAR
VERSION:2.0
PRODID:-//SchoolBundle//NONSGML Calendar 1.0//EN
BEGIN:VTIMEZONE
TZID:America/Winnipeg
X-LIC-LOCATION:America/Winnipeg
BEGIN:DAYLIGHT
TZOFFSETFROM:-0600
TZOFFSETTO:-0500
TZNAME:CDT
DTSTART:19700308T020000
RRULE:FREQ=YEARLY;BYMONTH=3;BYDAY=2SU
END:DAYLIGHT
BEGIN:STANDARD
TZOFFSETFROM:-0500
TZOFFSETTO:-0600
TZNAME:CST
DTSTART:19701101T020000
RRULE:FREQ=YEARLY;BYMONTH=11;BYDAY=1SU
END:STANDARD
END:VTIMEZONE
BEGIN:VEVENT
SUMMARY:Student Advisory Committee
LOCATION:100 Salter St, Winnipeg, MB R2W 5M1, Canada
DESCRIPTION:May 7\, 2026\n12:00 to 1:00 p.m.\nChildren of the Earth High S
 chool\n100 Salter Street
X-ALT-DESC;FMTTYPE=text/html:<p id="isPasted">May 7, 2026<br>12:00 to
  1:00 p.m.<br>Children of the Earth High School<br>100 Salter Stre
 et</p>
DTSTAMP:20260423T063903Z
UID:34125@Wsd.sbc
SEQUENCE:1
URL;VALUE=URI:https://www.winnipegsd.ca/_ci/calendar/event/34125
DTSTART;TZID=America/Winnipeg:20260507T120000
DTEND;TZID=America/Winnipeg:20260507T130000
END:VEVENT
END:VCALENDAR
