BEGIN:VCALENDAR
VERSION:2.0
PRODID:-//SchoolBundle//NONSGML Calendar 1.0//EN
BEGIN:VTIMEZONE
TZID:America/Winnipeg
X-LIC-LOCATION:America/Winnipeg
BEGIN:DAYLIGHT
TZOFFSETFROM:-0600
TZOFFSETTO:-0500
TZNAME:CDT
DTSTART:19700308T020000
RRULE:FREQ=YEARLY;BYMONTH=3;BYDAY=2SU
END:DAYLIGHT
BEGIN:STANDARD
TZOFFSETFROM:-0500
TZOFFSETTO:-0600
TZNAME:CST
DTSTART:19701101T020000
RRULE:FREQ=YEARLY;BYMONTH=11;BYDAY=1SU
END:STANDARD
END:VTIMEZONE
BEGIN:VEVENT
SUMMARY:South District Advisory Committee
LOCATION:510 Hay St, Winnipeg, MB R3L 2L6, Canada
DESCRIPTION:April 30\, 2026\n6:30 to 7:30 p.m.\nColl&egrave\;ge Churchill 
 High School \n510 Hay Street
X-ALT-DESC;FMTTYPE=text/html:<p id="isPasted">April 30, 2026<br>6:30 
 to 7:30 p.m.<br>Collège Churchill High School <br>510 Hay Street</
 p>
DTSTAMP:20260421T124825Z
UID:34122@Wsd.sbc
SEQUENCE:1
URL;VALUE=URI:https://www.winnipegsd.ca/_ci/calendar/event/34122
DTSTART;TZID=America/Winnipeg:20260430T183000
DTEND;TZID=America/Winnipeg:20260430T193000
END:VEVENT
END:VCALENDAR
