BEGIN:VCALENDAR
VERSION:2.0
PRODID:-//SchoolBundle//NONSGML Calendar 1.0//EN
BEGIN:VTIMEZONE
TZID:America/Vancouver
X-LIC-LOCATION:America/Vancouver
BEGIN:DAYLIGHT
TZOFFSETFROM:-0800
TZOFFSETTO:-0700
TZNAME:EDT
DTSTART:19700308T020000
RRULE:FREQ=YEARLY;BYMONTH=3;BYDAY=2SU
END:DAYLIGHT
BEGIN:STANDARD
TZOFFSETFROM:-0700
TZOFFSETTO:-0800
TZNAME:EST
DTSTART:19701101T020000
RRULE:FREQ=YEARLY;BYMONTH=11;BYDAY=1SU
END:STANDARD
END:VTIMEZONE
BEGIN:VEVENT
SUMMARY:Div. 4 Swimming Lessons (PM)
DESCRIPTION:7 afternoon sessions 12-3pm\nWednesday&#39\;s\, starting May 6
 th at Templeton Pool via public transit\nRemember to bring bathing suit a
 nd towel to school that day.
X-ALT-DESC;FMTTYPE=text/html:<p>7 afternoon sessions 12-3pm<br>Wednes
 day's, starting May 6th at Templeton Pool via public transit<br>Re
 member to bring bathing suit and towel to school that day.</p>
DTSTAMP:20260425T171819Z
UID:88076@Vsb.sbc
SEQUENCE:1
URL;VALUE=URI:https://www.vsb.bc.ca/_ci/calendar/event/88076
DTSTART;VALUE=DATE:20260506
DTEND;VALUE=DATE:20260507
RRULE:FREQ=WEEKLY;INTERVAL=1;BYDAY=WE;UNTIL=20260617T070000Z
END:VEVENT
END:VCALENDAR
