BEGIN:VCALENDAR
VERSION:2.0
PRODID:-//SchoolBundle//NONSGML Calendar 1.0//EN
BEGIN:VTIMEZONE
TZID:America/Vancouver
X-LIC-LOCATION:America/Vancouver
BEGIN:DAYLIGHT
TZOFFSETFROM:-0800
TZOFFSETTO:-0700
TZNAME:EDT
DTSTART:19700308T020000
RRULE:FREQ=YEARLY;BYMONTH=3;BYDAY=2SU
END:DAYLIGHT
BEGIN:STANDARD
TZOFFSETFROM:-0700
TZOFFSETTO:-0800
TZNAME:EST
DTSTART:19701101T020000
RRULE:FREQ=YEARLY;BYMONTH=11;BYDAY=1SU
END:STANDARD
END:VTIMEZONE
BEGIN:VEVENT
SUMMARY:Conferences (Early Dismissal)
DESCRIPTION:A reminder to all families that Conferences will be held on Ap
 ril 29 and April 30.  This is an opportunity for you to discuss your chil
 d&#39\;s learning with their teacher.  To help accommodate these meetings
  students will be dismissed at 1:58 pm both days.
X-ALT-DESC;FMTTYPE=text/html:<p>A reminder to all families that Confe
 rences will be held on April 29 and April 30.  This is an opportun
 ity for you to discuss your child's learning with their teacher.  
 To help accommodate these meetings students will be dismissed at 1
 :58 pm both days.</p>
DTSTAMP:20260423T064006Z
UID:88056@Vsb.sbc
SEQUENCE:1
URL;VALUE=URI:https://www.vsb.bc.ca/_ci/calendar/event/88056
DTSTART;TZID=America/Vancouver:20260430T140000
DTEND;TZID=America/Vancouver:20260430T190000
END:VEVENT
END:VCALENDAR
