BEGIN:VCALENDAR
VERSION:2.0
PRODID:-//SchoolBundle//NONSGML Calendar 1.0//EN
BEGIN:VTIMEZONE
TZID:America/Vancouver
X-LIC-LOCATION:America/Vancouver
BEGIN:DAYLIGHT
TZOFFSETFROM:-0800
TZOFFSETTO:-0700
TZNAME:EDT
DTSTART:19700308T020000
RRULE:FREQ=YEARLY;BYMONTH=3;BYDAY=2SU
END:DAYLIGHT
BEGIN:STANDARD
TZOFFSETFROM:-0700
TZOFFSETTO:-0800
TZNAME:EST
DTSTART:19701101T020000
RRULE:FREQ=YEARLY;BYMONTH=11;BYDAY=1SU
END:STANDARD
END:VTIMEZONE
BEGIN:VEVENT
SUMMARY:Student dismissal at 2:35PM for Lapu Lapu tragedy commemorati
 on ceremony
DESCRIPTION: \nWednesday April 22 2026\n8:40 - 10:00 BLOCK 1\n\n10:10 - 11
 :30 BLOCK 2\n\n11:30 - 12:15 LUNCH\n\n12:15 - 1:20\nBLOCK 3\n\n1:30 - 2:3
 5 \nBLOCK 4
X-ALT-DESC;FMTTYPE=text/html:<p> </p><table border="0" cellpadding="0
 " cellspacing="0" width="110" id="isPasted"><tbody><tr><td height=
 "43" class="xl63" width="100%"><div style="text-align: center;"><s
 trong>Wednesday</strong></div><div style="text-align: center;"><st
 rong> April 22 20</strong><strong>26</strong></div></td></tr><tr><
 td height="43" class="xl64" width="100%"><div style="text-align: c
 enter;">8:40 - 10:00 <strong>BLOCK 1</strong></div></td></tr><tr><
 td height="43" class="xl65" width="100%"><div style="text-align: c
 enter;">10:10 - 11:30 <strong>BLOCK 2</strong></div></td></tr><tr>
 <td height="43" class="xl66" width="100%"><div style="text-align: 
 center;">11:30 - 12:15 <strong>LUNCH</strong></div></td></tr><tr><
 td height="43" class="xl67" width="100%"><div style="text-align: c
 enter;">12:15 - 1:20<br><strong>BLOCK 3</strong></div></td></tr><t
 r><td height="43" class="xl68" width="100%"><div style="text-align
 : center;">1:30 - 2:35 </div><div style="text-align: center;"><str
 ong>BLOCK 4</strong></div></td></tr></tbody></table>
DTSTAMP:20260421T124023Z
UID:87763@Vsb.sbc
SEQUENCE:5
URL;VALUE=URI:https://www.vsb.bc.ca/_ci/calendar/event/87763
DTSTART;TZID=America/Vancouver:20260422T084000
DTEND;TZID=America/Vancouver:20260422T140000
END:VEVENT
END:VCALENDAR
