BEGIN:VCALENDAR
VERSION:2.0
PRODID:-//SchoolBundle//NONSGML Calendar 1.0//EN
BEGIN:VTIMEZONE
TZID:America/Vancouver
X-LIC-LOCATION:America/Vancouver
BEGIN:DAYLIGHT
TZOFFSETFROM:-0800
TZOFFSETTO:-0700
TZNAME:EDT
DTSTART:19700308T020000
RRULE:FREQ=YEARLY;BYMONTH=3;BYDAY=2SU
END:DAYLIGHT
BEGIN:STANDARD
TZOFFSETFROM:-0700
TZOFFSETTO:-0800
TZNAME:EST
DTSTART:19701101T020000
RRULE:FREQ=YEARLY;BYMONTH=11;BYDAY=1SU
END:STANDARD
END:VTIMEZONE
BEGIN:VEVENT
SUMMARY:Last Day of Instruction
DESCRIPTION:Last full day of pupil attendance school year.
X-ALT-DESC;FMTTYPE=text/html:<p>Last full day of pupil attendance sch
 ool year.</p>
DTSTAMP:20260426T021944Z
UID:87562@Vsb.sbc
SEQUENCE:1
URL;VALUE=URI:https://www.vsb.bc.ca/_ci/calendar/event/87562
DTSTART;VALUE=DATE:20260625
DTEND;VALUE=DATE:20260626
END:VEVENT
END:VCALENDAR
