BEGIN:VCALENDAR
VERSION:2.0
PRODID:-//SchoolBundle//NONSGML Calendar 1.0//EN
BEGIN:VTIMEZONE
TZID:America/Vancouver
X-LIC-LOCATION:America/Vancouver
BEGIN:DAYLIGHT
TZOFFSETFROM:-0800
TZOFFSETTO:-0700
TZNAME:EDT
DTSTART:19700308T020000
RRULE:FREQ=YEARLY;BYMONTH=3;BYDAY=2SU
END:DAYLIGHT
BEGIN:STANDARD
TZOFFSETFROM:-0700
TZOFFSETTO:-0800
TZNAME:EST
DTSTART:19701101T020000
RRULE:FREQ=YEARLY;BYMONTH=11;BYDAY=1SU
END:STANDARD
END:VTIMEZONE
BEGIN:VEVENT
SUMMARY:Big One @ 2 Emergency Preparedness Drill
DESCRIPTION:Thursday May 7 at 2:00 PM\, all Vancouver schools will partici
 pate in the districtwide Big One @ 2 Emergency Preparedness Drill.
X-ALT-DESC;FMTTYPE=text/html:<p>Thursday May 7 at 2:00 PM, all Vancou
 ver schools will participate in the districtwide Big One @ 2 Emerg
 ency Preparedness Drill.</p>
DTSTAMP:20260424T181057Z
UID:87374@Vsb.sbc
SEQUENCE:1
URL;VALUE=URI:https://www.vsb.bc.ca/_ci/calendar/event/87374
DTSTART;TZID=America/Vancouver:20260507T140000
DTEND;TZID=America/Vancouver:20260507T143000
END:VEVENT
END:VCALENDAR
