BEGIN:VCALENDAR
VERSION:2.0
PRODID:-//SchoolBundle//NONSGML Calendar 1.0//EN
BEGIN:VTIMEZONE
TZID:America/Vancouver
X-LIC-LOCATION:America/Vancouver
BEGIN:DAYLIGHT
TZOFFSETFROM:-0800
TZOFFSETTO:-0700
TZNAME:EDT
DTSTART:19700308T020000
RRULE:FREQ=YEARLY;BYMONTH=3;BYDAY=2SU
END:DAYLIGHT
BEGIN:STANDARD
TZOFFSETFROM:-0700
TZOFFSETTO:-0800
TZNAME:EST
DTSTART:19701101T020000
RRULE:FREQ=YEARLY;BYMONTH=11;BYDAY=1SU
END:STANDARD
END:VTIMEZONE
BEGIN:VEVENT
SUMMARY:Parent Teacher Conferences 
DESCRIPTION:Please note there is an early dismissal @ 2:00pm on this day.
X-ALT-DESC;FMTTYPE=text/html:<p>Please note there is an early dismiss
 al @ 2:00pm on this day. </p>
DTSTAMP:20260421T042957Z
UID:87367@Vsb.sbc
SEQUENCE:1
URL;VALUE=URI:https://www.vsb.bc.ca/_ci/calendar/event/87367
DTSTART;TZID=America/Vancouver:20260429T140000
DTEND;TZID=America/Vancouver:20260429T173000
END:VEVENT
END:VCALENDAR
