BEGIN:VCALENDAR
VERSION:2.0
PRODID:-//SchoolBundle//NONSGML Calendar 1.0//EN
BEGIN:VTIMEZONE
TZID:America/Vancouver
X-LIC-LOCATION:America/Vancouver
BEGIN:DAYLIGHT
TZOFFSETFROM:-0800
TZOFFSETTO:-0700
TZNAME:EDT
DTSTART:19700308T020000
RRULE:FREQ=YEARLY;BYMONTH=3;BYDAY=2SU
END:DAYLIGHT
BEGIN:STANDARD
TZOFFSETFROM:-0700
TZOFFSETTO:-0800
TZNAME:EST
DTSTART:19701101T020000
RRULE:FREQ=YEARLY;BYMONTH=11;BYDAY=1SU
END:STANDARD
END:VTIMEZONE
BEGIN:VEVENT
SUMMARY:Class and Group Photos
DESCRIPTION:Class and Group Photos - 9am
X-ALT-DESC;FMTTYPE=text/html:<p>Class and Group Photos - 9am</p>
DTSTAMP:20260423T231124Z
UID:86765@Vsb.sbc
SEQUENCE:4
URL;VALUE=URI:https://www.vsb.bc.ca/_ci/calendar/event/86765
DTSTART;VALUE=DATE:20260504
DTEND;VALUE=DATE:20260505
END:VEVENT
END:VCALENDAR
