BEGIN:VCALENDAR
VERSION:2.0
PRODID:-//SchoolBundle//NONSGML Calendar 1.0//EN
BEGIN:VTIMEZONE
TZID:America/Vancouver
X-LIC-LOCATION:America/Vancouver
BEGIN:DAYLIGHT
TZOFFSETFROM:-0800
TZOFFSETTO:-0700
TZNAME:EDT
DTSTART:19700308T020000
RRULE:FREQ=YEARLY;BYMONTH=3;BYDAY=2SU
END:DAYLIGHT
BEGIN:STANDARD
TZOFFSETFROM:-0700
TZOFFSETTO:-0800
TZNAME:EST
DTSTART:19701101T020000
RRULE:FREQ=YEARLY;BYMONTH=11;BYDAY=1SU
END:STANDARD
END:VTIMEZONE
BEGIN:VEVENT
SUMMARY:EARLY DISMISSAL 2pm
DESCRIPTION:Communicating Student Learning Conferences - 2pm dismissal
X-ALT-DESC;FMTTYPE=text/html:<p><span style="color: rgb(33, 33, 33); 
 font-family: Calibri, Arial, sans-serif; font-size: 15px; font-sty
 le: normal; font-variant-ligatures: none; font-variant-caps: norma
 l; font-weight: 100; letter-spacing: normal; orphans: 2; text-alig
 n: left; text-indent: 0px; text-transform: none; widows: 2; word-s
 pacing: 0px; -webkit-text-stroke-width: 0px; white-space: pre-wrap
 ; text-decoration-thickness: initial; text-decoration-style: initi
 al; text-decoration-color: initial; float: none; display: inline !
 important;" id="isPasted">Communicating Student Learning Conferenc
 es - 2pm dismissal</span></p>
DTSTAMP:20260423T214010Z
UID:83050@Vsb.sbc
SEQUENCE:3
URL;VALUE=URI:https://www.vsb.bc.ca/_ci/calendar/event/83050
DTSTART;VALUE=DATE:20260429
DTEND;VALUE=DATE:20260430
END:VEVENT
END:VCALENDAR
