BEGIN:VCALENDAR
VERSION:2.0
PRODID:-//SchoolBundle//NONSGML Calendar 1.0//EN
BEGIN:VTIMEZONE
TZID:America/Vancouver
X-LIC-LOCATION:America/Vancouver
BEGIN:DAYLIGHT
TZOFFSETFROM:-0800
TZOFFSETTO:-0700
TZNAME:EDT
DTSTART:19700308T020000
RRULE:FREQ=YEARLY;BYMONTH=3;BYDAY=2SU
END:DAYLIGHT
BEGIN:STANDARD
TZOFFSETFROM:-0700
TZOFFSETTO:-0800
TZNAME:EST
DTSTART:19701101T020000
RRULE:FREQ=YEARLY;BYMONTH=11;BYDAY=1SU
END:STANDARD
END:VTIMEZONE
BEGIN:VEVENT
SUMMARY:PAC Musubi Day
DESCRIPTION:Please click here to register and order: https://secordpacwebs
 ite.wixsite.com/secordpac
X-ALT-DESC;FMTTYPE=text/html:<p>Please click here to register and ord
 er: <a data-fr-linked="true" href="https://secordpacwebsite.wixsit
 e.com/secordpac" id="isPasted">https://secordpacwebsite.wixsite.co
 m/secordpac</a></p>
DTSTAMP:20260419T212127Z
UID:82709@Vsb.sbc
SEQUENCE:1
URL;VALUE=URI:https://www.vsb.bc.ca/_ci/calendar/event/82709
DTSTART;VALUE=DATE:20260423
DTEND;VALUE=DATE:20260424
RRULE:FREQ=MONTHLY;INTERVAL=1;BYSETPOS=4;BYDAY=TH;COUNT=2
END:VEVENT
END:VCALENDAR
