BEGIN:VCALENDAR
VERSION:2.0
PRODID:-//SchoolBundle//NONSGML Calendar 1.0//EN
BEGIN:VTIMEZONE
TZID:America/Vancouver
X-LIC-LOCATION:America/Vancouver
BEGIN:DAYLIGHT
TZOFFSETFROM:-0800
TZOFFSETTO:-0700
TZNAME:EDT
DTSTART:19700308T020000
RRULE:FREQ=YEARLY;BYMONTH=3;BYDAY=2SU
END:DAYLIGHT
BEGIN:STANDARD
TZOFFSETFROM:-0700
TZOFFSETTO:-0800
TZNAME:EST
DTSTART:19701101T020000
RRULE:FREQ=YEARLY;BYMONTH=11;BYDAY=1SU
END:STANDARD
END:VTIMEZONE
BEGIN:VEVENT
SUMMARY:Learning Updates Published at 3 PM
DESCRIPTION:Log into the MyEducation Portal to access your marks after 3pm
 .  \n\nPlease remember to download a copy of your all learning updates as
  they will be deleted during the the reporting period.  \n\nPlease note t
 hey MyEducation Family portal is one login shared by students and their p
 arent/guardians/caregivers. \n\nMyEd Login ID is your student number.  If
  you have forgotten your password\, please visit herefor helpful resource
 s to reset your MyEd password or to change your security question.  \n\nG
 et started by taking a Student Family Portal Tour
X-ALT-DESC;FMTTYPE=text/html:<p id="isPasted">Log into the MyEducatio
 n Portal to access your marks after 3pm.  </p><p>Please remember t
 o download a copy of your all learning updates as they will be del
 eted during the the reporting period.  </p><p>Please note they MyE
 ducation Family portal is one login shared by students and their p
 arent/guardians/caregivers. </p><p>MyEd Login ID is your student n
 umber.  If you have forgotten your password, please visit <a href=
 "https://www.vsb.bc.ca/page/5038" target="_blank" style="box-sizin
 g: border-box; background-color: transparent; color: rgb(0, 116, 2
 04); text-decoration: underline; transition: color 0.3s linear, ba
 ckground 0.3s linear, border 0.3s linear, box-shadow 0.3s linear, 
 opacity 0.3s linear, visibility 0.3s linear;">here</a>for helpful 
 resources to reset your MyEd password or to change your security q
 uestion.  </p><p>Get started by taking a <a data-file="1" href="ht
 tps://media.vsb.bc.ca/docs/9bb228ae-303b-4c8f-ad0c-467b757317b8_QR
 G%20Student%20Family%20Portal%20Tour.pdf" target="_blank">Student 
 Family Portal Tour</a></p>
DTSTAMP:20260424T190544Z
UID:82502@Vsb.sbc
SEQUENCE:2
URL;VALUE=URI:https://www.vsb.bc.ca/_ci/calendar/event/82502
DTSTART;VALUE=DATE:20260430
DTEND;VALUE=DATE:20260501
END:VEVENT
END:VCALENDAR
