BEGIN:VCALENDAR
VERSION:2.0
PRODID:-//SchoolBundle//NONSGML Calendar 1.0//EN
BEGIN:VTIMEZONE
TZID:America/Vancouver
X-LIC-LOCATION:America/Vancouver
BEGIN:DAYLIGHT
TZOFFSETFROM:-0800
TZOFFSETTO:-0700
TZNAME:EDT
DTSTART:19700308T020000
RRULE:FREQ=YEARLY;BYMONTH=3;BYDAY=2SU
END:DAYLIGHT
BEGIN:STANDARD
TZOFFSETFROM:-0700
TZOFFSETTO:-0800
TZNAME:EST
DTSTART:19701101T020000
RRULE:FREQ=YEARLY;BYMONTH=11;BYDAY=1SU
END:STANDARD
END:VTIMEZONE
BEGIN:VEVENT
SUMMARY:Student-Led Conferences
DESCRIPTION:Please note that all students will be dismissed at 2:00 p.m. f
 or Student-Led Conferences.
X-ALT-DESC;FMTTYPE=text/html:<p>Please note that all students will be
  <strong id="isPasted">dismissed at 2:00 p.m.</strong> for Student
 -Led Conferences. </p>
DTSTAMP:20260421T002404Z
UID:82375@Vsb.sbc
SEQUENCE:1
URL;VALUE=URI:https://www.vsb.bc.ca/_ci/calendar/event/82375
DTSTART;TZID=America/Vancouver:20260422T140000
DTEND;TZID=America/Vancouver:20260422T180000
END:VEVENT
END:VCALENDAR
