BEGIN:VCALENDAR
VERSION:2.0
PRODID:-//SchoolBundle//NONSGML Calendar 1.0//EN
BEGIN:VTIMEZONE
TZID:America/Vancouver
X-LIC-LOCATION:America/Vancouver
BEGIN:DAYLIGHT
TZOFFSETFROM:-0800
TZOFFSETTO:-0700
TZNAME:EDT
DTSTART:19700308T020000
RRULE:FREQ=YEARLY;BYMONTH=3;BYDAY=2SU
END:DAYLIGHT
BEGIN:STANDARD
TZOFFSETFROM:-0700
TZOFFSETTO:-0800
TZNAME:EST
DTSTART:19701101T020000
RRULE:FREQ=YEARLY;BYMONTH=11;BYDAY=1SU
END:STANDARD
END:VTIMEZONE
BEGIN:VEVENT
SUMMARY:Literacy and Numeracy Assessments
DESCRIPTION:In British Columbia\, the Ministry of Education mandates gradu
 ation assessments in both Numeracy and Literacy for all Grade 10 and Grad
 e 12 students. These assessments are designed to evaluate a student&#39\;
 s proficiency in numeracy and literacy skills\, which are considered esse
 ntial for success in post-secondary education and beyond. They are cross-
 curricular\, stand-alone assessments\, meaning they are not tied to speci
 fic courses and their results are reported separately on the student&#39\
 ;s transcript.
X-ALT-DESC;FMTTYPE=text/html:<p>In British Columbia, the Ministry of 
 Education mandates graduation assessments in both Numeracy and Lit
 eracy for all Grade 10 and Grade 12 students. These assessments ar
 e designed to evaluate a student's proficiency in numeracy and lit
 eracy skills, which are considered essential for success in post-s
 econdary education and beyond. They are cross-curricular, stand-al
 one assessments, meaning they are not tied to specific courses and
  their results are reported separately on the student's transcript
 . </p>
DTSTAMP:20260423T092222Z
UID:82246@Vsb.sbc
SEQUENCE:2
URL;VALUE=URI:https://www.vsb.bc.ca/_ci/calendar/event/82246
DTSTART;TZID=America/Vancouver:20260421T084000
DTEND;TZID=America/Vancouver:20260421T150500
RRULE:FREQ=DAILY;INTERVAL=1;COUNT=4
END:VEVENT
END:VCALENDAR
