BEGIN:VCALENDAR
VERSION:2.0
PRODID:-//SchoolBundle//NONSGML Calendar 1.0//EN
BEGIN:VTIMEZONE
TZID:America/Vancouver
X-LIC-LOCATION:America/Vancouver
BEGIN:DAYLIGHT
TZOFFSETFROM:-0800
TZOFFSETTO:-0700
TZNAME:EDT
DTSTART:19700308T020000
RRULE:FREQ=YEARLY;BYMONTH=3;BYDAY=2SU
END:DAYLIGHT
BEGIN:STANDARD
TZOFFSETFROM:-0700
TZOFFSETTO:-0800
TZNAME:EST
DTSTART:19701101T020000
RRULE:FREQ=YEARLY;BYMONTH=11;BYDAY=1SU
END:STANDARD
END:VTIMEZONE
BEGIN:VEVENT
SUMMARY:Parent-Teacher Conference Bookings Open
DESCRIPTION:More information to come regarding booking appointments for Pa
 rent-Teacher Conferences. Last day to book appointments is on April 28 at
  12pm.
X-ALT-DESC;FMTTYPE=text/html:<p>More information to come regarding bo
 oking appointments for Parent-Teacher Conferences.  Last day to bo
 ok appointments is on April 28 at 12pm.</p>
DTSTAMP:20260424T192653Z
UID:82042@Vsb.sbc
SEQUENCE:2
URL;VALUE=URI:https://www.vsb.bc.ca/_ci/calendar/event/82042
DTSTART;TZID=America/Vancouver:20260424T170000
DTEND;TZID=America/Vancouver:20260428T120000
END:VEVENT
END:VCALENDAR
