BEGIN:VCALENDAR
VERSION:2.0
PRODID:-//SchoolBundle//NONSGML Calendar 1.0//EN
BEGIN:VTIMEZONE
TZID:America/Vancouver
X-LIC-LOCATION:America/Vancouver
BEGIN:DAYLIGHT
TZOFFSETFROM:-0800
TZOFFSETTO:-0700
TZNAME:EDT
DTSTART:19700308T020000
RRULE:FREQ=YEARLY;BYMONTH=3;BYDAY=2SU
END:DAYLIGHT
BEGIN:STANDARD
TZOFFSETFROM:-0700
TZOFFSETTO:-0800
TZNAME:EST
DTSTART:19701101T020000
RRULE:FREQ=YEARLY;BYMONTH=11;BYDAY=1SU
END:STANDARD
END:VTIMEZONE
BEGIN:VEVENT
SUMMARY:Mid-Semester Reports Online
DESCRIPTION:Mid-Semester 2 Reports posted in MyEd.
X-ALT-DESC;FMTTYPE=text/html:<p>Mid-Semester 2 Reports posted in MyEd
 .</p>
DTSTAMP:20260424T192730Z
UID:82036@Vsb.sbc
SEQUENCE:1
URL;VALUE=URI:https://www.vsb.bc.ca/_ci/calendar/event/82036
DTSTART;TZID=America/Vancouver:20260424T140000
DTEND;TZID=America/Vancouver:20260424T140100
END:VEVENT
END:VCALENDAR
