BEGIN:VCALENDAR
VERSION:2.0
PRODID:-//SchoolBundle//NONSGML Calendar 1.0//EN
BEGIN:VTIMEZONE
TZID:America/Vancouver
X-LIC-LOCATION:America/Vancouver
BEGIN:DAYLIGHT
TZOFFSETFROM:-0800
TZOFFSETTO:-0700
TZNAME:EDT
DTSTART:19700308T020000
RRULE:FREQ=YEARLY;BYMONTH=3;BYDAY=2SU
END:DAYLIGHT
BEGIN:STANDARD
TZOFFSETFROM:-0700
TZOFFSETTO:-0800
TZNAME:EST
DTSTART:19701101T020000
RRULE:FREQ=YEARLY;BYMONTH=11;BYDAY=1SU
END:STANDARD
END:VTIMEZONE
BEGIN:VEVENT
SUMMARY:Collaborative Day (PM)
DESCRIPTION:It&#39\;s a Collaborative Day today.\n\nThere is no P4 class t
 his afternoon!
X-ALT-DESC;FMTTYPE=text/html:<p id="isPasted">It's a Collaborative Da
 y today.</p><p>There is no P4 class this afternoon!</p>
DTSTAMP:20260425T154645Z
UID:81703@Vsb.sbc
SEQUENCE:1
URL;VALUE=URI:https://www.vsb.bc.ca/_ci/calendar/event/81703
DTSTART;VALUE=DATE:20260512
DTEND;VALUE=DATE:20260513
END:VEVENT
END:VCALENDAR
