BEGIN:VCALENDAR
VERSION:2.0
PRODID:-//SchoolBundle//NONSGML Calendar 1.0//EN
BEGIN:VTIMEZONE
TZID:America/Winnipeg
X-LIC-LOCATION:America/Winnipeg
BEGIN:DAYLIGHT
TZOFFSETFROM:-0600
TZOFFSETTO:-0500
TZNAME:CDT
DTSTART:19700308T020000
RRULE:FREQ=YEARLY;BYMONTH=3;BYDAY=2SU
END:DAYLIGHT
BEGIN:STANDARD
TZOFFSETFROM:-0500
TZOFFSETTO:-0600
TZNAME:CST
DTSTART:19701101T020000
RRULE:FREQ=YEARLY;BYMONTH=11;BYDAY=1SU
END:STANDARD
END:VTIMEZONE
BEGIN:VEVENT
SUMMARY:Grade 6 Badminton Jam @SVRSS
DESCRIPTION:
DTSTAMP:20260422T193556Z
UID:8953@Svsd.sbc
SEQUENCE:1
URL;VALUE=URI:https://www.svsd.ca/_ci/calendar/event/8953
DTSTART;TZID=America/Winnipeg:20260422T170000
DTEND;TZID=America/Winnipeg:20260422T200000
END:VEVENT
END:VCALENDAR
