BEGIN:VCALENDAR
VERSION:2.0
PRODID:-//SchoolBundle//NONSGML Calendar 1.0//EN
BEGIN:VTIMEZONE
TZID:America/Winnipeg
X-LIC-LOCATION:America/Winnipeg
BEGIN:DAYLIGHT
TZOFFSETFROM:-0600
TZOFFSETTO:-0500
TZNAME:CDT
DTSTART:19700308T020000
RRULE:FREQ=YEARLY;BYMONTH=3;BYDAY=2SU
END:DAYLIGHT
BEGIN:STANDARD
TZOFFSETFROM:-0500
TZOFFSETTO:-0600
TZNAME:CST
DTSTART:19701101T020000
RRULE:FREQ=YEARLY;BYMONTH=11;BYDAY=1SU
END:STANDARD
END:VTIMEZONE
BEGIN:VEVENT
SUMMARY:Kindergarten Graduation & Continuation - Benito School
DESCRIPTION:Benito Schools hosts a Kindergarten Graduation/Continuation ev
 ent on June 25\, 2026\, starting at 1:30 p.m. If you would like more info
 rmation\, please contact Jocelyn Beehler\, Principal of Benito School.\n\
 n204-539-2466 or jbeehler@svsd.ca
X-ALT-DESC;FMTTYPE=text/html:<p>Benito Schools hosts a Kindergarten G
 raduation/Continuation event on June 25, 2026, starting at 1:30 p.
 m. If you would like more information, please contact Jocelyn Beeh
 ler, Principal of Benito School.</p><p>204-539-2466 or jbeehler@sv
 sd.ca</p>
DTSTAMP:20260420T140703Z
UID:7837@Svsd.sbc
SEQUENCE:1
URL;VALUE=URI:https://www.svsd.ca/_ci/calendar/event/7837
DTSTART;TZID=America/Winnipeg:20260625T133000
DTEND;TZID=America/Winnipeg:20260625T140000
END:VEVENT
END:VCALENDAR
