BEGIN:VCALENDAR
VERSION:2.0
PRODID:-//SchoolBundle//NONSGML Calendar 1.0//EN
BEGIN:VTIMEZONE
TZID:America/Vancouver
X-LIC-LOCATION:America/Vancouver
BEGIN:DAYLIGHT
TZOFFSETFROM:-0800
TZOFFSETTO:-0700
TZNAME:EDT
DTSTART:19700308T020000
RRULE:FREQ=YEARLY;BYMONTH=3;BYDAY=2SU
END:DAYLIGHT
BEGIN:STANDARD
TZOFFSETFROM:-0700
TZOFFSETTO:-0800
TZNAME:EST
DTSTART:19701101T020000
RRULE:FREQ=YEARLY;BYMONTH=11;BYDAY=1SU
END:STANDARD
END:VTIMEZONE
BEGIN:VEVENT
SUMMARY:Class Photo Day!
DESCRIPTION:Class Photos will be taken this morning beginning at approxima
 tely 8:40am.\n\nWe will start with the Kindergarten classes and continue 
 through each grade until the grade 7 classes finish things off.\n\nComb y
 our hair! :-)
X-ALT-DESC;FMTTYPE=text/html:<p>Class Photos will be taken this morni
 ng beginning at approximately 8:40am.</p><p>We will start with the
  Kindergarten classes and continue through each grade until the gr
 ade 7 classes finish things off.</p><p>Comb your hair! :-)</p>
DTSTAMP:20260423T155704Z
UID:202248@Surrey.sbc
SEQUENCE:1
URL;VALUE=URI:https://www.surreyschools.ca/_ci/calendar/event/202248
DTSTART;TZID=America/Vancouver:20260423T084500
DTEND;TZID=America/Vancouver:20260423T111500
END:VEVENT
END:VCALENDAR
