BEGIN:VCALENDAR
VERSION:2.0
PRODID:-//SchoolBundle//NONSGML Calendar 1.0//EN
BEGIN:VTIMEZONE
TZID:America/Vancouver
X-LIC-LOCATION:America/Vancouver
BEGIN:DAYLIGHT
TZOFFSETFROM:-0800
TZOFFSETTO:-0700
TZNAME:EDT
DTSTART:19700308T020000
RRULE:FREQ=YEARLY;BYMONTH=3;BYDAY=2SU
END:DAYLIGHT
BEGIN:STANDARD
TZOFFSETFROM:-0700
TZOFFSETTO:-0800
TZNAME:EST
DTSTART:19701101T020000
RRULE:FREQ=YEARLY;BYMONTH=11;BYDAY=1SU
END:STANDARD
END:VTIMEZONE
BEGIN:VEVENT
SUMMARY:Student-Led Conferences
DESCRIPTION:Beginning after early dismissal (1:30pm)\, teachers will be ha
 ving student-led conferences. To sign-up\, click here: Student-Led Confer
 ences. If you do not see your child&#39\;s division/teacher\, they are or
 ganizing their own schedule. You can contact them directly with any quest
 ions.
X-ALT-DESC;FMTTYPE=text/html:<p>Beginning after early dismissal (1:30
 pm), teachers will be having student-led conferences. To sign-up, 
 click here: <a href="https://outlook.office.com/book/April2026Stud
 entLed@sd36.onmicrosoft.com/?ismsaljsauthenabled" target="_blank" 
 rel="noopener noreferrer">Student-Led Conferences</a>. If you do n
 ot see your child's division/teacher, they are organizing their ow
 n schedule. You can contact them directly with any questions.</p>
DTSTAMP:20260423T160000Z
UID:202246@Surrey.sbc
SEQUENCE:1
URL;VALUE=URI:https://www.surreyschools.ca/_ci/calendar/event/202246
DTSTART;TZID=America/Vancouver:20260429T133500
DTEND;TZID=America/Vancouver:20260429T173000
END:VEVENT
END:VCALENDAR
