BEGIN:VCALENDAR
VERSION:2.0
PRODID:-//SchoolBundle//NONSGML Calendar 1.0//EN
BEGIN:VTIMEZONE
TZID:America/Vancouver
X-LIC-LOCATION:America/Vancouver
BEGIN:DAYLIGHT
TZOFFSETFROM:-0800
TZOFFSETTO:-0700
TZNAME:EDT
DTSTART:19700308T020000
RRULE:FREQ=YEARLY;BYMONTH=3;BYDAY=2SU
END:DAYLIGHT
BEGIN:STANDARD
TZOFFSETFROM:-0700
TZOFFSETTO:-0800
TZNAME:EST
DTSTART:19701101T020000
RRULE:FREQ=YEARLY;BYMONTH=11;BYDAY=1SU
END:STANDARD
END:VTIMEZONE
BEGIN:VEVENT
SUMMARY:Photo Day - April 23
DESCRIPTION:Westerman Class Photos and Team Photos will be taken on Thursd
 ay\, April 23.  \n\nBring your smiles!
X-ALT-DESC;FMTTYPE=text/html:<p>Westerman Class Photos and Team Photo
 s will be taken on Thursday, April 23.  </p><p>Bring your smiles!<
 /p>
DTSTAMP:20260423T093740Z
UID:202078@Surrey.sbc
SEQUENCE:1
URL;VALUE=URI:https://www.surreyschools.ca/_ci/calendar/event/202078
DTSTART;TZID=America/Vancouver:20260421T100000
DTEND;TZID=America/Vancouver:20260424T103000
END:VEVENT
END:VCALENDAR
