BEGIN:VCALENDAR
VERSION:2.0
PRODID:-//SchoolBundle//NONSGML Calendar 1.0//EN
BEGIN:VTIMEZONE
TZID:America/Vancouver
X-LIC-LOCATION:America/Vancouver
BEGIN:DAYLIGHT
TZOFFSETFROM:-0800
TZOFFSETTO:-0700
TZNAME:EDT
DTSTART:19700308T020000
RRULE:FREQ=YEARLY;BYMONTH=3;BYDAY=2SU
END:DAYLIGHT
BEGIN:STANDARD
TZOFFSETFROM:-0700
TZOFFSETTO:-0800
TZNAME:EST
DTSTART:19701101T020000
RRULE:FREQ=YEARLY;BYMONTH=11;BYDAY=1SU
END:STANDARD
END:VTIMEZONE
BEGIN:VEVENT
SUMMARY:Running Club
DESCRIPTION:Details\nThe Ellendale Running Club begins on Tuesday\, April 
 7 and runs until Thursday May 14th. It will be every Tuesday and Thursday
 . \n\nRunning will take place on school grounds from 2:28 PM-3:00 PM\, we
 ather permitting.  \n\nIf Running Club is cancelled due to weather or oth
 er circumstances\, an email will be sent to all families by 2:00 PM that 
 day.  Please DO NOT call the office\, check your email.\n\nThe Running cl
 ub is open to students from Kindergarten through Grade 7.  Once permissio
 n forms are returned\, students will be able to participate\n\nEach day\,
  students will run a pre-set course around the school. Every lap will be 
 recorded\, and ribbons will be awarded for every 5 km completed.
X-ALT-DESC;FMTTYPE=text/html:<p id="isPasted"><strong>Details</strong
 ></p><p>The Ellendale Running Club begins on Tuesday, April 7 and 
 runs until Thursday May 14th. It will be every Tuesday and Thursda
 y. </p><p>Running will take place on school grounds from 2:28 PM–3
 :00 PM, weather permitting.  </p><p>If Running Club is cancelled d
 ue to weather or other circumstances, an email will be sent to all
  families by 2:00 PM that day.  Please DO NOT call the office, che
 ck your email.</p><p>The Running club is open to students from Kin
 dergarten through Grade 7.  Once permission forms are returned, st
 udents will be able to participate</p><p>Each day, students will r
 un a pre-set course around the school. Every lap will be recorded,
  and ribbons will be awarded for every 5 km completed.</p>
DTSTAMP:20260424T114505Z
UID:201611@Surrey.sbc
SEQUENCE:2
URL;VALUE=URI:https://www.surreyschools.ca/_ci/calendar/event/201611
DTSTART;TZID=America/Vancouver:20260423T142800
DTEND;TZID=America/Vancouver:20260423T150000
RRULE:FREQ=WEEKLY;INTERVAL=1;BYDAY=TU,TH;UNTIL=20260514T220000Z
END:VEVENT
END:VCALENDAR
