BEGIN:VCALENDAR
VERSION:2.0
PRODID:-//SchoolBundle//NONSGML Calendar 1.0//EN
BEGIN:VTIMEZONE
TZID:America/Vancouver
X-LIC-LOCATION:America/Vancouver
BEGIN:DAYLIGHT
TZOFFSETFROM:-0800
TZOFFSETTO:-0700
TZNAME:EDT
DTSTART:19700308T020000
RRULE:FREQ=YEARLY;BYMONTH=3;BYDAY=2SU
END:DAYLIGHT
BEGIN:STANDARD
TZOFFSETFROM:-0700
TZOFFSETTO:-0800
TZNAME:EST
DTSTART:19701101T020000
RRULE:FREQ=YEARLY;BYMONTH=11;BYDAY=1SU
END:STANDARD
END:VTIMEZONE
BEGIN:VEVENT
SUMMARY:Q3 Midterm Learning Update Published Online
DESCRIPTION:Q3 Midterm Learning Update published online\nhttps://myeducati
 on.gov.bc.ca/aspen-login/?deploymentId=aspen
X-ALT-DESC;FMTTYPE=text/html:<p>Q3 Midterm Learning Update published 
 online</p><p><a data-fr-linked="true" href="https://myeducation.go
 v.bc.ca/aspen-login/?deploymentId=aspen" id="isPasted">https://mye
 ducation.gov.bc.ca/aspen-login/?deploymentId=aspen</a></p>
DTSTAMP:20260426T020311Z
UID:197084@Surrey.sbc
SEQUENCE:2
URL;VALUE=URI:https://www.surreyschools.ca/_ci/calendar/event/197084
DTSTART;VALUE=DATE:20260430
DTEND;VALUE=DATE:20260501
END:VEVENT
END:VCALENDAR
