BEGIN:VCALENDAR
VERSION:2.0
PRODID:-//SchoolBundle//NONSGML Calendar 1.0//EN
BEGIN:VTIMEZONE
TZID:America/Vancouver
X-LIC-LOCATION:America/Vancouver
BEGIN:DAYLIGHT
TZOFFSETFROM:-0800
TZOFFSETTO:-0700
TZNAME:EDT
DTSTART:19700308T020000
RRULE:FREQ=YEARLY;BYMONTH=3;BYDAY=2SU
END:DAYLIGHT
BEGIN:STANDARD
TZOFFSETFROM:-0700
TZOFFSETTO:-0800
TZNAME:EST
DTSTART:19701101T020000
RRULE:FREQ=YEARLY;BYMONTH=11;BYDAY=1SU
END:STANDARD
END:VTIMEZONE
BEGIN:VEVENT
SUMMARY:G.I.A. (Girls in Action) Grades 6-7
DESCRIPTION:Held on Tuesday&#39\;s October 7 - June 9\, 2026 (Excluding ho
 lidays and Pro-D days when school is closed).  \n\n2:30pm - 4:30pm
X-ALT-DESC;FMTTYPE=text/html:<p style='box-sizing: border-box; color:
  rgb(65, 65, 65); font-family: sans-serif, "Segoe UI", Regular; fo
 nt-size: 18px; font-style: normal; font-variant-ligatures: normal;
  font-variant-caps: normal; font-weight: 400; letter-spacing: norm
 al; orphans: 2; text-align: left; text-indent: 0px; text-transform
 : none; widows: 2; word-spacing: 0px; -webkit-text-stroke-width: 0
 px; white-space: normal; background-color: rgb(255, 255, 255); tex
 t-decoration-thickness: initial; text-decoration-style: initial; t
 ext-decoration-color: initial;' id="isPasted">Held on Tuesday's Oc
 tober 7 - June 9, 2026 (Excluding holidays and Pro-D days when sch
 ool is closed).  </p><p style='box-sizing: border-box; color: rgb(
 65, 65, 65); font-family: sans-serif, "Segoe UI", Regular; font-si
 ze: 18px; font-style: normal; font-variant-ligatures: normal; font
 -variant-caps: normal; font-weight: 400; letter-spacing: normal; o
 rphans: 2; text-align: left; text-indent: 0px; text-transform: non
 e; widows: 2; word-spacing: 0px; -webkit-text-stroke-width: 0px; w
 hite-space: normal; background-color: rgb(255, 255, 255); text-dec
 oration-thickness: initial; text-decoration-style: initial; text-d
 ecoration-color: initial;'>2:30pm - 4:30pm  </p>
DTSTAMP:20260424T114418Z
UID:193141@Surrey.sbc
SEQUENCE:1
URL;VALUE=URI:https://www.surreyschools.ca/_ci/calendar/event/193141
DTSTART;TZID=America/Vancouver:20260428T143000
DTEND;TZID=America/Vancouver:20260428T163000
RRULE:FREQ=WEEKLY;INTERVAL=1;BYDAY=TU;UNTIL=20260609T233000Z
END:VEVENT
END:VCALENDAR
