BEGIN:VCALENDAR
VERSION:2.0
PRODID:-//SchoolBundle//NONSGML Calendar 1.0//EN
BEGIN:VTIMEZONE
TZID:America/Vancouver
X-LIC-LOCATION:America/Vancouver
BEGIN:DAYLIGHT
TZOFFSETFROM:-0800
TZOFFSETTO:-0700
TZNAME:EDT
DTSTART:19700308T020000
RRULE:FREQ=YEARLY;BYMONTH=3;BYDAY=2SU
END:DAYLIGHT
BEGIN:STANDARD
TZOFFSETFROM:-0700
TZOFFSETTO:-0800
TZNAME:EST
DTSTART:19701101T020000
RRULE:FREQ=YEARLY;BYMONTH=11;BYDAY=1SU
END:STANDARD
END:VTIMEZONE
BEGIN:VEVENT
SUMMARY:Provincial Assessments - Literacy Assessments
DESCRIPTION:Literacy Assessment (Grade 10/12 students taking English in Se
 mester 2)
X-ALT-DESC;FMTTYPE=text/html:<p><span style="color: rgb(0, 0, 0); fon
 t-family: Aptos, Aptos_EmbeddedFont, Aptos_MSFontService, Calibri,
  Helvetica, sans-serif; font-size: 16px; font-style: normal; font-
 variant-ligatures: normal; font-variant-caps: normal; font-weight:
  400; letter-spacing: normal; orphans: 2; text-align: start; text-
 indent: 0px; text-transform: none; widows: 2; word-spacing: 0px; -
 webkit-text-stroke-width: 0px; white-space: normal; background-col
 or: rgb(255, 255, 255); text-decoration-thickness: initial; text-d
 ecoration-style: initial; text-decoration-color: initial; display:
  inline !important; float: none;" id="isPasted">Literacy Assessmen
 t (Grade 10/12 students taking English in Semester 2)</span></p>
DTSTAMP:20260421T122515Z
UID:188547@Surrey.sbc
SEQUENCE:1
URL;VALUE=URI:https://www.surreyschools.ca/_ci/calendar/event/188547
DTSTART;VALUE=DATE:20260420
DTEND;VALUE=DATE:20260425
END:VEVENT
END:VCALENDAR
