BEGIN:VCALENDAR
VERSION:2.0
PRODID:-//SchoolBundle//NONSGML Calendar 1.0//EN
BEGIN:VTIMEZONE
TZID:America/Winnipeg
X-LIC-LOCATION:America/Winnipeg
BEGIN:DAYLIGHT
TZOFFSETFROM:-0600
TZOFFSETTO:-0500
TZNAME:CDT
DTSTART:19700308T020000
RRULE:FREQ=YEARLY;BYMONTH=3;BYDAY=2SU
END:DAYLIGHT
BEGIN:STANDARD
TZOFFSETFROM:-0500
TZOFFSETTO:-0600
TZNAME:CST
DTSTART:19701101T020000
RRULE:FREQ=YEARLY;BYMONTH=11;BYDAY=1SU
END:STANDARD
END:VTIMEZONE
BEGIN:VEVENT
SUMMARY:Boys Outdoor Soccer - 2 Games
LOCATION:900 Waverley St, Winnipeg, MB R3T 6A9, Canada
DESCRIPTION:Team Dismissed Periods A&amp\;B\n\nGame 1 vs. River East @ 8:3
 0am\n\nGame 2 vs. Vincent Massey (Bdn) @5:30pm
X-ALT-DESC;FMTTYPE=text/html:<p>Team Dismissed Periods A&B</p><p>Game
  1 vs. River East @ 8:30am</p><p>Game 2 vs. Vincent Massey (Bdn) @
 5:30pm</p>
DTSTAMP:20260422T170249Z
UID:17512@SevenOaks.sbc
SEQUENCE:1
URL;VALUE=URI:https://www.7oaks.org/_ci/calendar/event/17512
DTSTART;VALUE=DATE:20260423
DTEND;VALUE=DATE:20260424
END:VEVENT
END:VCALENDAR
