BEGIN:VCALENDAR
VERSION:2.0
PRODID:-//SchoolBundle//NONSGML Calendar 1.0//EN
BEGIN:VTIMEZONE
TZID:America/Winnipeg
X-LIC-LOCATION:America/Winnipeg
BEGIN:DAYLIGHT
TZOFFSETFROM:-0600
TZOFFSETTO:-0500
TZNAME:CDT
DTSTART:19700308T020000
RRULE:FREQ=YEARLY;BYMONTH=3;BYDAY=2SU
END:DAYLIGHT
BEGIN:STANDARD
TZOFFSETFROM:-0500
TZOFFSETTO:-0600
TZNAME:CST
DTSTART:19701101T020000
RRULE:FREQ=YEARLY;BYMONTH=11;BYDAY=1SU
END:STANDARD
END:VTIMEZONE
BEGIN:VEVENT
SUMMARY:Girls Outdoor Soccer - 2 games
LOCATION:900 Waverley St, Winnipeg, MB R3T 6A9, Canada
DESCRIPTION:Team Dismissed all day.\n\nGame 1 vs. Oak Park - 8:30am\n\nGam
 e 2 vs. Selkirk - 1:00pm
X-ALT-DESC;FMTTYPE=text/html:<p>Team Dismissed all day.</p><p>Game 1 
 vs. Oak Park - 8:30am</p><p>Game 2 vs. Selkirk - 1:00pm</p>
DTSTAMP:20260422T170112Z
UID:17508@SevenOaks.sbc
SEQUENCE:2
URL;VALUE=URI:https://www.7oaks.org/_ci/calendar/event/17508
DTSTART;VALUE=DATE:20260422
DTEND;VALUE=DATE:20260423
END:VEVENT
END:VCALENDAR
