BEGIN:VCALENDAR
VERSION:2.0
PRODID:-//SchoolBundle//NONSGML Calendar 1.0//EN
BEGIN:VTIMEZONE
TZID:America/Winnipeg
X-LIC-LOCATION:America/Winnipeg
BEGIN:DAYLIGHT
TZOFFSETFROM:-0600
TZOFFSETTO:-0500
TZNAME:CDT
DTSTART:19700308T020000
RRULE:FREQ=YEARLY;BYMONTH=3;BYDAY=2SU
END:DAYLIGHT
BEGIN:STANDARD
TZOFFSETFROM:-0500
TZOFFSETTO:-0600
TZNAME:CST
DTSTART:19701101T020000
RRULE:FREQ=YEARLY;BYMONTH=11;BYDAY=1SU
END:STANDARD
END:VTIMEZONE
BEGIN:VEVENT
SUMMARY:Home Game: Tuesday Badminton at ESOMS
DESCRIPTION:HC Avery 2 and ESOMS at ESOMS
X-ALT-DESC;FMTTYPE=text/html:<p>HC Avery 2 and ESOMS at ESOMS</p>
DTSTAMP:20260424T171618Z
UID:17414@SevenOaks.sbc
SEQUENCE:1
URL;VALUE=URI:https://www.7oaks.org/_ci/calendar/event/17414
DTSTART;TZID=America/Winnipeg:20260428T153000
DTEND;TZID=America/Winnipeg:20260428T170000
END:VEVENT
END:VCALENDAR
