BEGIN:VCALENDAR
VERSION:2.0
PRODID:-//SchoolBundle//NONSGML Calendar 1.0//EN
BEGIN:VTIMEZONE
TZID:America/Winnipeg
X-LIC-LOCATION:America/Winnipeg
BEGIN:DAYLIGHT
TZOFFSETFROM:-0600
TZOFFSETTO:-0500
TZNAME:CDT
DTSTART:19700308T020000
RRULE:FREQ=YEARLY;BYMONTH=3;BYDAY=2SU
END:DAYLIGHT
BEGIN:STANDARD
TZOFFSETFROM:-0500
TZOFFSETTO:-0600
TZNAME:CST
DTSTART:19701101T020000
RRULE:FREQ=YEARLY;BYMONTH=11;BYDAY=1SU
END:STANDARD
END:VTIMEZONE
BEGIN:VEVENT
SUMMARY:NEWSIES JR
LOCATION:711 Jefferson Ave
DESCRIPTION:Salle 11\, 12\, 15 will be going to SOPAC for the ESOMS produc
 tion of NEWSIES JR. \n\nthey will be walking over to SOPAC from Belmont. 
 Show starts at 11 am and they will be returning to school by 12:30pm
X-ALT-DESC;FMTTYPE=text/html:<p>Salle 11, 12, 15 will be going to SOP
 AC for the ESOMS production of NEWSIES JR. </p><p>they will be wal
 king over to SOPAC from Belmont. Show starts at 11 am and they wil
 l be returning to school by 12:30pm </p>
DTSTAMP:20260421T120722Z
UID:17321@SevenOaks.sbc
SEQUENCE:2
URL;VALUE=URI:https://www.7oaks.org/_ci/calendar/event/17321
DTSTART;VALUE=DATE:20260422
DTEND;VALUE=DATE:20260423
END:VEVENT
END:VCALENDAR
