BEGIN:VCALENDAR
VERSION:2.0
PRODID:-//SchoolBundle//NONSGML Calendar 1.0//EN
BEGIN:VTIMEZONE
TZID:America/Winnipeg
X-LIC-LOCATION:America/Winnipeg
BEGIN:DAYLIGHT
TZOFFSETFROM:-0600
TZOFFSETTO:-0500
TZNAME:CDT
DTSTART:19700308T020000
RRULE:FREQ=YEARLY;BYMONTH=3;BYDAY=2SU
END:DAYLIGHT
BEGIN:STANDARD
TZOFFSETFROM:-0500
TZOFFSETTO:-0600
TZNAME:CST
DTSTART:19701101T020000
RRULE:FREQ=YEARLY;BYMONTH=11;BYDAY=1SU
END:STANDARD
END:VTIMEZONE
BEGIN:VEVENT
SUMMARY:Badminton, Tues Doubles - D. Kammerlock/P. Kaushal/B. Bernshi
 ne 
LOCATION:3740 Main St, West Saint Paul, MB R4A 1A4, Canada
DESCRIPTION:
DTSTAMP:20260421T082711Z
UID:17260@SevenOaks.sbc
SEQUENCE:1
URL;VALUE=URI:https://www.7oaks.org/_ci/calendar/event/17260
DTSTART;TZID=America/Winnipeg:20260421T141500
DTEND;TZID=America/Winnipeg:20260421T144500
END:VEVENT
END:VCALENDAR
