BEGIN:VCALENDAR
VERSION:2.0
PRODID:-//SchoolBundle//NONSGML Calendar 1.0//EN
BEGIN:VTIMEZONE
TZID:America/Winnipeg
X-LIC-LOCATION:America/Winnipeg
BEGIN:DAYLIGHT
TZOFFSETFROM:-0600
TZOFFSETTO:-0500
TZNAME:CDT
DTSTART:19700308T020000
RRULE:FREQ=YEARLY;BYMONTH=3;BYDAY=2SU
END:DAYLIGHT
BEGIN:STANDARD
TZOFFSETFROM:-0500
TZOFFSETTO:-0600
TZNAME:CST
DTSTART:19701101T020000
RRULE:FREQ=YEARLY;BYMONTH=11;BYDAY=1SU
END:STANDARD
END:VTIMEZONE
BEGIN:VEVENT
SUMMARY:Badminton, Mon Doubles - D. Kammerlock/J. Rhoda/ B. Huynh
LOCATION:105 Holmes Rd, West Saint Paul, MB R4A 6A2, Canada
DESCRIPTION:
DTSTAMP:20260421T083029Z
UID:17254@SevenOaks.sbc
SEQUENCE:1
URL;VALUE=URI:https://www.7oaks.org/_ci/calendar/event/17254
DTSTART;TZID=America/Winnipeg:20260420T141500
DTEND;TZID=America/Winnipeg:20260420T144500
END:VEVENT
END:VCALENDAR
