BEGIN:VCALENDAR
VERSION:2.0
PRODID:-//SchoolBundle//NONSGML Calendar 1.0//EN
BEGIN:VTIMEZONE
TZID:America/Winnipeg
X-LIC-LOCATION:America/Winnipeg
BEGIN:DAYLIGHT
TZOFFSETFROM:-0600
TZOFFSETTO:-0500
TZNAME:CDT
DTSTART:19700308T020000
RRULE:FREQ=YEARLY;BYMONTH=3;BYDAY=2SU
END:DAYLIGHT
BEGIN:STANDARD
TZOFFSETFROM:-0500
TZOFFSETTO:-0600
TZNAME:CST
DTSTART:19701101T020000
RRULE:FREQ=YEARLY;BYMONTH=11;BYDAY=1SU
END:STANDARD
END:VTIMEZONE
BEGIN:VEVENT
SUMMARY:Debate Club
DESCRIPTION:
DTSTAMP:20260424T171506Z
UID:14132@SevenOaks.sbc
SEQUENCE:2
URL;VALUE=URI:https://www.7oaks.org/_ci/calendar/event/14132
DTSTART;TZID=America/Winnipeg:20260107T113500
DTEND;TZID=America/Winnipeg:20260107T121500
RRULE:FREQ=WEEKLY;INTERVAL=1;BYDAY=WE;UNTIL=20260624T171500Z
END:VEVENT
END:VCALENDAR
