BEGIN:VCALENDAR
VERSION:2.0
PRODID:-//SchoolBundle//NONSGML Calendar 1.0//EN
BEGIN:VTIMEZONE
TZID:America/Winnipeg
X-LIC-LOCATION:America/Winnipeg
BEGIN:DAYLIGHT
TZOFFSETFROM:-0600
TZOFFSETTO:-0500
TZNAME:CDT
DTSTART:19700308T020000
RRULE:FREQ=YEARLY;BYMONTH=3;BYDAY=2SU
END:DAYLIGHT
BEGIN:STANDARD
TZOFFSETFROM:-0500
TZOFFSETTO:-0600
TZNAME:CST
DTSTART:19701101T020000
RRULE:FREQ=YEARLY;BYMONTH=11;BYDAY=1SU
END:STANDARD
END:VTIMEZONE
BEGIN:VEVENT
SUMMARY:Parent/Child Program - Room #4
LOCATION:25 Morrison St, Winnipeg, MB R2V 3B3, Canada
DESCRIPTION:
DTSTAMP:20260421T083532Z
UID:13633@SevenOaks.sbc
SEQUENCE:1
URL;VALUE=URI:https://www.7oaks.org/_ci/calendar/event/13633
DTSTART;TZID=America/Winnipeg:20250924T090000
DTEND;TZID=America/Winnipeg:20250924T110000
RRULE:FREQ=WEEKLY;INTERVAL=1;BYDAY=WE;UNTIL=20260624T160000Z
END:VEVENT
END:VCALENDAR
