BEGIN:VCALENDAR
VERSION:2.0
PRODID:-//SchoolBundle//NONSGML Calendar 1.0//EN
BEGIN:VTIMEZONE
TZID:America/Vancouver
X-LIC-LOCATION:America/Vancouver
BEGIN:DAYLIGHT
TZOFFSETFROM:-0800
TZOFFSETTO:-0700
TZNAME:PDT
DTSTART:19700308T020000
RRULE:FREQ=YEARLY;BYMONTH=3;BYDAY=2SU
END:DAYLIGHT
BEGIN:STANDARD
TZOFFSETFROM:-0700
TZOFFSETTO:-0800
TZNAME:PST
DTSTART:19701101T020000
RRULE:FREQ=YEARLY;BYMONTH=11;BYDAY=1SU
END:STANDARD
END:VTIMEZONE
BEGIN:VEVENT
SUMMARY:Subway
DESCRIPTION:Hot Lunch Subway
X-ALT-DESC;FMTTYPE=text/html:<p>Hot Lunch Subway</p>
DTSTAMP:20260422T133736Z
UID:25510@Sd72.sbc
SEQUENCE:1
URL;VALUE=URI:https://www.sd72.bc.ca/_ci/calendar/event/25510
DTSTART;TZID=America/Vancouver:20260429T120000
DTEND;TZID=America/Vancouver:20260429T123000
END:VEVENT
END:VCALENDAR
