BEGIN:VCALENDAR
VERSION:2.0
PRODID:-//SchoolBundle//NONSGML Calendar 1.0//EN
BEGIN:VTIMEZONE
TZID:America/Vancouver
X-LIC-LOCATION:America/Vancouver
BEGIN:DAYLIGHT
TZOFFSETFROM:-0800
TZOFFSETTO:-0700
TZNAME:PDT
DTSTART:19700308T020000
RRULE:FREQ=YEARLY;BYMONTH=3;BYDAY=2SU
END:DAYLIGHT
BEGIN:STANDARD
TZOFFSETFROM:-0700
TZOFFSETTO:-0800
TZNAME:PST
DTSTART:19701101T020000
RRULE:FREQ=YEARLY;BYMONTH=11;BYDAY=1SU
END:STANDARD
END:VTIMEZONE
BEGIN:VEVENT
SUMMARY:WorkBC Interactive Trade Expo
LOCATION:1681 S Dogwood St, Campbell River, BC V9W 7M3, Canada
DESCRIPTION:Students who are interested in learning about careers in the t
 rades are invited to attend the Interactive Trades Expo on Friday\, May 1
  at Timberline Secondary School from 10 a.m. to 2 p.m.\n\nThe event is ho
 sted by WorkBC Centre-Campbell River in partnership with North Island Col
 lege\, School District 71 and School District 72\, along with local indus
 try and community partners. \n\nThe event is intended for secondary stude
 nts who want to learn more about opportunities in the trades or who are c
 onsidering future training or employment in skilled trades programs.\n\nS
 tudents interested in attending should sign up through their school&rsquo
 \;s careers office.
X-ALT-DESC;FMTTYPE=text/html:<p id="isPasted">Students who are intere
 sted in learning about careers in the trades are invited to attend
  the Interactive Trades Expo on Friday, May 1 at Timberline Second
 ary School from 10 a.m. to 2 p.m.</p><p>The event is hosted by Wor
 kBC Centre–Campbell River in partnership with North Island College
 , School District 71 and School District 72, along with local indu
 stry and community partners. </p><p id="isPasted">The event is int
 ended for secondary students who want to learn more about opportun
 ities in the trades or who are considering future training or empl
 oyment in skilled trades programs.</p><p>Students interested in at
 tending should sign up through their school’s careers office.</p>
DTSTAMP:20260423T064736Z
UID:25143@Sd72.sbc
SEQUENCE:1
URL;VALUE=URI:https://www.sd72.bc.ca/_ci/calendar/event/25143
DTSTART;TZID=America/Vancouver:20260501T100000
DTEND;TZID=America/Vancouver:20260501T140000
END:VEVENT
END:VCALENDAR
