BEGIN:VCALENDAR
VERSION:2.0
PRODID:-//SchoolBundle//NONSGML Calendar 1.0//EN
BEGIN:VTIMEZONE
TZID:America/Vancouver
X-LIC-LOCATION:America/Vancouver
BEGIN:DAYLIGHT
TZOFFSETFROM:-0800
TZOFFSETTO:-0700
TZNAME:PDT
DTSTART:19700308T020000
RRULE:FREQ=YEARLY;BYMONTH=3;BYDAY=2SU
END:DAYLIGHT
BEGIN:STANDARD
TZOFFSETFROM:-0700
TZOFFSETTO:-0800
TZNAME:PST
DTSTART:19701101T020000
RRULE:FREQ=YEARLY;BYMONTH=11;BYDAY=1SU
END:STANDARD
END:VTIMEZONE
BEGIN:VEVENT
SUMMARY:Late Cross Catchment Transfer Deadline
DESCRIPTION:Late cross catchment transfer applications for the 2026-2027 s
 chool year deadline. Applications received by this date will be processed
  by the end of May.
X-ALT-DESC;FMTTYPE=text/html:<p>Late cross catchment transfer applica
 tions for the 2026-2027 school year deadline. Applications receive
 d by this date will be processed by the end of May.</p>
DTSTAMP:20260422T091548Z
UID:24178@Sd72.sbc
SEQUENCE:2
URL;VALUE=URI:https://www.sd72.bc.ca/_ci/calendar/event/24178
DTSTART;VALUE=DATE:20260508
DTEND;VALUE=DATE:20260509
END:VEVENT
END:VCALENDAR
