BEGIN:VCALENDAR
VERSION:2.0
PRODID:-//SchoolBundle//NONSGML Calendar 1.0//EN
BEGIN:VTIMEZONE
TZID:America/Vancouver
X-LIC-LOCATION:America/Vancouver
BEGIN:DAYLIGHT
TZOFFSETFROM:-0800
TZOFFSETTO:-0700
TZNAME:EDT
DTSTART:19700308T020000
RRULE:FREQ=YEARLY;BYMONTH=3;BYDAY=2SU
END:DAYLIGHT
BEGIN:STANDARD
TZOFFSETFROM:-0700
TZOFFSETTO:-0800
TZNAME:EST
DTSTART:19701101T020000
RRULE:FREQ=YEARLY;BYMONTH=11;BYDAY=1SU
END:STANDARD
END:VTIMEZONE
BEGIN:VEVENT
SUMMARY:Div. 8 (Letham) & Div. 9 (Brockington) to OLC
DESCRIPTION:Dressing for the weather is vital! Water bottles\, too.
X-ALT-DESC;FMTTYPE=text/html:<p>Dressing for the weather is vital! Wa
 ter bottles, too. </p>
DTSTAMP:20260423T074100Z
UID:9414@SD47.sbc
SEQUENCE:1
URL;VALUE=URI:https://www.sd47.bc.ca/_ci/calendar/event/9414
DTSTART;VALUE=DATE:20260504
DTEND;VALUE=DATE:20260505
END:VEVENT
END:VCALENDAR
