BEGIN:VCALENDAR
VERSION:2.0
PRODID:-//SchoolBundle//NONSGML Calendar 1.0//EN
BEGIN:VTIMEZONE
TZID:America/Vancouver
X-LIC-LOCATION:America/Vancouver
BEGIN:DAYLIGHT
TZOFFSETFROM:-0800
TZOFFSETTO:-0700
TZNAME:EDT
DTSTART:19700308T020000
RRULE:FREQ=YEARLY;BYMONTH=3;BYDAY=2SU
END:DAYLIGHT
BEGIN:STANDARD
TZOFFSETFROM:-0700
TZOFFSETTO:-0800
TZNAME:EST
DTSTART:19701101T020000
RRULE:FREQ=YEARLY;BYMONTH=11;BYDAY=1SU
END:STANDARD
END:VTIMEZONE
BEGIN:VEVENT
SUMMARY:PAC Haning Basket Fundraiser
DESCRIPTION:The PAC is running a hanging basket fundraiser this month. Inf
 o below:\n\nSpring Hanging Basket Fundraiser.  Support our PAC while brig
 htening up your home or garden!\n12&quot\; Hanging Basket Voucher💐 $34.9
 9 each These vouchers can be redeemed for a beautiful hanging basket at C
 learview Garden Shop.Order Deadline: April 29Voucher Pickup: May 1 (deliv
 ered to classrooms shortly after)Voucher Redemption: May 1 - May 31Perfec
 t for Mother&#39\;s Day!Surprise the moms\, grandmas\, or special people 
 in your life with a gorgeous spring hanging basket.\nPurchase your vouche
 r online: https://clearviewgardenshop.com/product/josette-dandurand-eleme
 ntary-pac-12-hanging-basket-fundraiser/⁠\n\n 💚 Thank you for supporting 
 the Josette Dandurand Elementary PAC!
X-ALT-DESC;FMTTYPE=text/html:<p id="isPasted">The PAC is running a ha
 nging basket fundraiser this month. Info below:</p><p>Spring Hangi
 ng Basket Fundraiser.   Support our PAC while brightening up your 
 home or garden!</p><ul><li>12" Hanging Basket Voucher💐 $34.99 eac
 h</li><li> These vouchers can be redeemed for a beautiful hanging 
 basket at Clearview Garden Shop.</li><li>Order Deadline: April 29<
 /li><li>Voucher Pickup: May 1 (delivered to classrooms shortly aft
 er)</li><li>Voucher Redemption: May 1 – May 31</li><li>Perfect for
  Mother's Day!</li><li>Surprise the moms, grandmas, or special peo
 ple in your life with a gorgeous spring hanging basket.</li></ul><
 p>Purchase your voucher online: <a href="https://can01.safelinks.p
 rotection.outlook.com/?url=https%3A%2F%2Fclearviewgardenshop.com%2
 Fproduct%2Fjosette-dandurand-elementary-pac-12-hanging-basket-fund
 raiser%2F&data=05%7C02%7Ccdavies%40sd35.bc.ca%7Cc07cef3bdec7451cdb
 1f08de96517ac1%7Cfcabfaaef80a4f74b6a7ba15c2a4bb24%7C0%7C0%7C639113
 474452990381%7CUnknown%7CTWFpbGZsb3d8eyJFbXB0eU1hcGkiOnRydWUsIlYiO
 iIwLjAuMDAwMCIsIlAiOiJXaW4zMiIsIkFOIjoiTWFpbCIsIldUIjoyfQ%3D%3D%7C
 0%7C%7C%7C&sdata=KidW0lo85eKpi0oG5qotzfGYwgUQT4DVb4YVkt9v6ZA%3D&re
 served=0">https://clearviewgardenshop.com/product/josette-danduran
 d-elementary-pac-12-hanging-basket-fundraiser/</a>⁠</p><p> 💚 Than
 k you for supporting the Josette Dandurand Elementary PAC!</p>
DTSTAMP:20260423T110655Z
UID:20719@Sd35.sbc
SEQUENCE:1
URL;VALUE=URI:https://www.sd35.bc.ca/_ci/calendar/event/20719
DTSTART;VALUE=DATE:20260410
DTEND;VALUE=DATE:20260430
END:VEVENT
END:VCALENDAR
