BEGIN:VCALENDAR
VERSION:2.0
PRODID:-//SchoolBundle//NONSGML Calendar 1.0//EN
BEGIN:VTIMEZONE
TZID:America/Vancouver
X-LIC-LOCATION:America/Vancouver
BEGIN:DAYLIGHT
TZOFFSETFROM:-0800
TZOFFSETTO:-0700
TZNAME:EDT
DTSTART:19700308T020000
RRULE:FREQ=YEARLY;BYMONTH=3;BYDAY=2SU
END:DAYLIGHT
BEGIN:STANDARD
TZOFFSETFROM:-0700
TZOFFSETTO:-0800
TZNAME:EST
DTSTART:19701101T020000
RRULE:FREQ=YEARLY;BYMONTH=11;BYDAY=1SU
END:STANDARD
END:VTIMEZONE
BEGIN:VEVENT
SUMMARY:Spring Musical (Intermediate Students)
DESCRIPTION:Be sure to join us to see our intermediate students shine on s
 tage! Show times will be 1:15pm and 6:15pm. See the weekly newsletter for
  show times and additional information. \n\nWe are also looking for paren
 t assistance in taking down lights\, sounds and staging at the end of the
  evening - watch for a sign up soon!
X-ALT-DESC;FMTTYPE=text/html:<p>Be sure to join us to see our interme
 diate students shine on stage! <em><strong>Show times will be 1:15
 pm and 6:15pm.</strong></em> See the weekly newsletter for show ti
 mes and additional information. </p><p>We are also looking for par
 ent assistance in taking down lights, sounds and staging at the en
 d of the evening - watch for a sign up soon!</p>
DTSTAMP:20260423T215042Z
UID:19662@Sd35.sbc
SEQUENCE:2
URL;VALUE=URI:https://www.sd35.bc.ca/_ci/calendar/event/19662
DTSTART;VALUE=DATE:20260423
DTEND;VALUE=DATE:20260424
END:VEVENT
END:VCALENDAR
