BEGIN:VCALENDAR
VERSION:2.0
PRODID:-//SchoolBundle//NONSGML Calendar 1.0//EN
BEGIN:VTIMEZONE
TZID:America/Vancouver
X-LIC-LOCATION:America/Vancouver
BEGIN:DAYLIGHT
TZOFFSETFROM:-0800
TZOFFSETTO:-0700
TZNAME:EDT
DTSTART:19700308T020000
RRULE:FREQ=YEARLY;BYMONTH=3;BYDAY=2SU
END:DAYLIGHT
BEGIN:STANDARD
TZOFFSETFROM:-0700
TZOFFSETTO:-0800
TZNAME:EST
DTSTART:19701101T020000
RRULE:FREQ=YEARLY;BYMONTH=11;BYDAY=1SU
END:STANDARD
END:VTIMEZONE
BEGIN:VEVENT
SUMMARY:Fun Lunch - Fuel Hot Dogs & TCBY
DESCRIPTION:Fun Lunch (for those who pre-ordered)
X-ALT-DESC;FMTTYPE=text/html:<p>Fun Lunch (for those who pre-ordered)
 </p>
DTSTAMP:20260421T083922Z
UID:19273@Sd35.sbc
SEQUENCE:2
URL;VALUE=URI:https://www.sd35.bc.ca/_ci/calendar/event/19273
DTSTART;TZID=America/Vancouver:20260424T120000
DTEND;TZID=America/Vancouver:20260424T130000
END:VEVENT
END:VCALENDAR
