BEGIN:VCALENDAR
VERSION:2.0
PRODID:-//SchoolBundle//NONSGML Calendar 1.0//EN
BEGIN:VTIMEZONE
TZID:America/Vancouver
X-LIC-LOCATION:America/Vancouver
BEGIN:DAYLIGHT
TZOFFSETFROM:-0800
TZOFFSETTO:-0700
TZNAME:EDT
DTSTART:19700308T020000
RRULE:FREQ=YEARLY;BYMONTH=3;BYDAY=2SU
END:DAYLIGHT
BEGIN:STANDARD
TZOFFSETFROM:-0700
TZOFFSETTO:-0800
TZNAME:EST
DTSTART:19701101T020000
RRULE:FREQ=YEARLY;BYMONTH=11;BYDAY=1SU
END:STANDARD
END:VTIMEZONE
BEGIN:VEVENT
SUMMARY:Outdoor Day
DESCRIPTION:Please see fieldtrip notices sent home with students for furth
 er information.
X-ALT-DESC;FMTTYPE=text/html:<p>Please see fieldtrip notices sent hom
 e with students for further information.</p>
DTSTAMP:20260423T104445Z
UID:17764@Sd35.sbc
SEQUENCE:1
URL;VALUE=URI:https://www.sd35.bc.ca/_ci/calendar/event/17764
DTSTART;VALUE=DATE:20260514
DTEND;VALUE=DATE:20260515
END:VEVENT
END:VCALENDAR
