BEGIN:VCALENDAR
VERSION:2.0
PRODID:-//SchoolBundle//NONSGML Calendar 1.0//EN
BEGIN:VTIMEZONE
TZID:America/Winnipeg
X-LIC-LOCATION:America/Winnipeg
BEGIN:DAYLIGHT
TZOFFSETFROM:-0600
TZOFFSETTO:-0500
TZNAME:CDT
DTSTART:19700308T020000
RRULE:FREQ=YEARLY;BYMONTH=3;BYDAY=2SU
END:DAYLIGHT
BEGIN:STANDARD
TZOFFSETFROM:-0500
TZOFFSETTO:-0600
TZNAME:CST
DTSTART:19701101T020000
RRULE:FREQ=YEARLY;BYMONTH=11;BYDAY=1SU
END:STANDARD
END:VTIMEZONE
BEGIN:VEVENT
SUMMARY:MB Legislative Building Field Trip
DESCRIPTION:Tour &amp\; Visit\n\nMr Sims &amp\; Mr Tryon\n\nGrade 9 CCW &a
 mp\; ELA Classes
X-ALT-DESC;FMTTYPE=text/html:<p>Tour & Visit</p><p>Mr Sims & Mr Tryon
 </p><p>Grade 9 CCW & ELA Classes</p>
DTSTAMP:20260425T171840Z
UID:35105@Retsd.sbc
SEQUENCE:1
URL;VALUE=URI:https://www.retsd.mb.ca/_ci/calendar/event/35105
DTSTART;TZID=America/Winnipeg:20260511T083000
DTEND;TZID=America/Winnipeg:20260511T140000
END:VEVENT
END:VCALENDAR
