BEGIN:VCALENDAR
VERSION:2.0
PRODID:-//SchoolBundle//NONSGML Calendar 1.0//EN
BEGIN:VTIMEZONE
TZID:America/Winnipeg
X-LIC-LOCATION:America/Winnipeg
BEGIN:DAYLIGHT
TZOFFSETFROM:-0600
TZOFFSETTO:-0500
TZNAME:CDT
DTSTART:19700308T020000
RRULE:FREQ=YEARLY;BYMONTH=3;BYDAY=2SU
END:DAYLIGHT
BEGIN:STANDARD
TZOFFSETFROM:-0500
TZOFFSETTO:-0600
TZNAME:CST
DTSTART:19701101T020000
RRULE:FREQ=YEARLY;BYMONTH=11;BYDAY=1SU
END:STANDARD
END:VTIMEZONE
BEGIN:VEVENT
SUMMARY:Hairstyling Field Trip
DESCRIPTION:Industry Day @ Louis Riel Arts &amp\; Tech Centre\n\nHairstyli
 ng Grades 10-12\n\nMs Harris\, Ms Kulas &amp\; Mr. Donogh
X-ALT-DESC;FMTTYPE=text/html:<p>Industry Day @ Louis Riel Arts & Tech
  Centre</p><p>Hairstyling Grades 10-12</p><p>Ms Harris, Ms Kulas &
  Mr. Donogh</p>
DTSTAMP:20260425T171921Z
UID:35104@Retsd.sbc
SEQUENCE:2
URL;VALUE=URI:https://www.retsd.mb.ca/_ci/calendar/event/35104
DTSTART;VALUE=DATE:20260511
DTEND;VALUE=DATE:20260512
END:VEVENT
END:VCALENDAR
