BEGIN:VCALENDAR
VERSION:2.0
PRODID:-//SchoolBundle//NONSGML Calendar 1.0//EN
BEGIN:VTIMEZONE
TZID:America/Winnipeg
X-LIC-LOCATION:America/Winnipeg
BEGIN:DAYLIGHT
TZOFFSETFROM:-0600
TZOFFSETTO:-0500
TZNAME:CDT
DTSTART:19700308T020000
RRULE:FREQ=YEARLY;BYMONTH=3;BYDAY=2SU
END:DAYLIGHT
BEGIN:STANDARD
TZOFFSETFROM:-0500
TZOFFSETTO:-0600
TZNAME:CST
DTSTART:19701101T020000
RRULE:FREQ=YEARLY;BYMONTH=11;BYDAY=1SU
END:STANDARD
END:VTIMEZONE
BEGIN:VEVENT
SUMMARY:Football Team Bowling Field Trip
DESCRIPTION:@ Rossmere Lanes\n\nVarsity &amp\; JV\n\nMr Cody &amp\; Byron 
 van Dijk
X-ALT-DESC;FMTTYPE=text/html:<p>@ Rossmere Lanes</p><p>Varsity & JV</
 p><p>Mr Cody & Byron van Dijk</p>
DTSTAMP:20260425T172028Z
UID:34950@Retsd.sbc
SEQUENCE:1
URL;VALUE=URI:https://www.retsd.mb.ca/_ci/calendar/event/34950
DTSTART;TZID=America/Winnipeg:20260507T120000
DTEND;TZID=America/Winnipeg:20260507T163000
END:VEVENT
END:VCALENDAR
